BEGIN:VCALENDAR
VERSION:2.0
PRODID:icalendar-ruby
CALSCALE:GREGORIAN
BEGIN:VEVENT
DTSTAMP:20260421T173739Z
UID:93ed75f6-1605-4eea-9395-ffdeb608cae7
DTSTART;VALUE=DATE:20220629
DESCRIPTION:Property ID# 537822\, Time: 3:00PM
SUMMARY:Auction for 
END:VEVENT
END:VCALENDAR
