BEGIN:VCALENDAR
VERSION:2.0
PRODID:icalendar-ruby
CALSCALE:GREGORIAN
BEGIN:VEVENT
DTSTAMP:20260421T173615Z
UID:0252a8a3-7cb2-4e34-a926-d5c080c46c79
DTSTART;VALUE=DATE:20220427
DESCRIPTION:Property ID# 534060\, Locatoin: Lodge Auction Rooms\, Time: 12:
 30PM
SUMMARY:Auction for 
END:VEVENT
END:VCALENDAR
