BEGIN:VCALENDAR
VERSION:2.0
PRODID:icalendar-ruby
CALSCALE:GREGORIAN
BEGIN:VEVENT
DTSTAMP:20191218T211114Z
UID:f542a5c8-1b0b-4dae-9840-0b014e37c5bb
DTSTART;TZID=Pacific/Auckland:20191222T133000
DTEND;TZID=Pacific/Auckland:20191222T140000
DESCRIPTION:Property ID# 469407
SUMMARY:Openhome for 67 Insoll Avenue
END:VEVENT
END:VCALENDAR
