BEGIN:VCALENDAR
VERSION:2.0
PRODID:icalendar-ruby
CALSCALE:GREGORIAN
BEGIN:VEVENT
DTSTAMP:20191218T211135Z
UID:ac88a428-5300-4e7d-a854-91f710c61e9d
DTSTART;TZID=Pacific/Auckland:20191219T133000
DTEND;TZID=Pacific/Auckland:20191219T140000
DESCRIPTION:Property ID# 469529
SUMMARY:Openhome for 9 Gillett Lane
END:VEVENT
END:VCALENDAR
